View In:
ArcGIS JavaScript
ArcGIS Online Map Viewer
ArcGIS Earth
Service Description: Modelo Digital de Elevaciones de 2012. Aunque el tamaño de tesela es de 5 m en toda la extensión del servicio, la calidad del muestreo del dato altimétrico para el exterior de Cantabria baja a 25 m de resolución (es decir, en el exterior de cantabria la fuente altimétrica ha sido un MDT de 25 m de resolución). El mar está interpretado en toda su extensión como cota 0 (sin batimetría).
Name: MDT_Elevaciones_2012
Description: Modelo Digital de Elevaciones de 2012. Aunque el tamaño de tesela es de 5 m en toda la extensión del servicio, la calidad del muestreo del dato altimétrico para el exterior de Cantabria baja a 25 m de resolución (es decir, en el exterior de cantabria la fuente altimétrica ha sido un MDT de 25 m de resolución). El mar está interpretado en toda su extensión como cota 0 (sin batimetría).
Single Fused Map Cache: true
Tile Info:
- Height: 256
- Width: 256
- DPI: 96
-
Levels of Detail: 15
- Format: MIXED
- Compression Quality: 70.0
- LERC Error: NaN
- Origin: X: -5120900.0
Y: 9998100.0
- Spatial Reference: 25830
(25830)
VCSWkid(5782)
LatestVCSWkid(5782)
Storage Info:
- Storage Format: esriMapCacheStorageModeCompactV2
- Packet Size: 128
Extent:
XMin: 304996.7322771633
YMin: 4684998.942936342
XMax: 543501.7322771633
YMax: 4838228.942936342
Spatial Reference: 25830
(25830)
Initial Extent:
XMin: 304996.7322771633
YMin: 4684998.942936342
XMax: 543501.7322771633
YMax: 4838228.942936342
Spatial Reference: 25830
(25830)
Full Extent:
XMin: 304996.7322771633
YMin: 4684998.942936342
XMax: 543501.7322771633
YMax: 4838228.942936342
Spatial Reference: 25830
(25830)
Pixel Size X: 5.0
Pixel Size Y: 5.0
Band Count: 1
Pixel Type: F32
RasterFunction Infos: {"rasterFunctionInfos": [{
"name": "None",
"description": "",
"help": ""
}]}
Mensuration Capabilities: Basic
Inspection Capabilities:
Has Histograms: true
Has Colormap: false
Has Multi Dimensions : false
Rendering Rule:
Min Scale: 2048000
Max Scale: 16000
Copyright Text: Gobierno de Cantabria-IGN, Sistema Cartográfico Nacional
Service Data Type: esriImageServiceDataTypeGeneric
Min Values: -27.610000610351562
Max Values: 2643.99609375
Mean Values: 637.7794993859292
Standard Deviation Values: 461.0920763333588
Object ID Field:
Fields:
None
Default Mosaic Method: Center
Allowed Mosaic Methods:
SortField:
SortValue: null
Mosaic Operator: First
Default Compression Quality: 10000
Default Resampling Method: Bilinear
Max Record Count: null
Max Image Height: 4100
Max Image Width: 15000
Max Download Image Count: null
Max Mosaic Image Count: null
Allow Raster Function: true
Allow Copy: true
Allow Analysis: true
Allow Compute TiePoints: false
Supports Statistics: false
Supports Advanced Queries: false
Use StandardizedQueries: true
Raster Type Infos:
Name: Raster Dataset
Description: Supports all ArcGIS Raster Datasets
Help:
Has Raster Attribute Table: false
Edit Fields Info: null
Ownership Based AccessControl For Rasters: null
Child Resources:
Info
Histograms
Statistics
Key Properties
Legend
Raster Function Infos
Supported Operations:
Export Image
Identify
Measure
Compute Histograms
Compute Statistics Histograms
Get Samples
Compute Class Statistics
Query Boundary
Compute Pixel Location
Compute Angles
Validate
Project
EstimateExportTilesSize
ExportTiles