{
 "currentVersion": 11.3,
 "serviceDescription": "Modelo Digital de Elevaciones de 2012. Aunque el tamaño de tesela es de 5 m en toda la extensión del servicio, la calidad del muestreo del dato altimétrico para el exterior de Cantabria baja a 25 m de resolución (es decir, en el exterior de cantabria la fuente altimétrica ha sido un MDT de 25 m de resolución). El mar está interpretado en toda su extensión como cota 0 (sin batimetría).",
 "name": "MDT_Elevaciones_2012",
 "description": "Modelo Digital de Elevaciones de 2012. Aunque el tamaño de tesela es de 5 m en toda la extensión del servicio, la calidad del muestreo del dato altimétrico para el exterior de Cantabria baja a 25 m de resolución (es decir, en el exterior de cantabria la fuente altimétrica ha sido un MDT de 25 m de resolución). El mar está interpretado en toda su extensión como cota 0 (sin batimetría).",
 "extent": {
  "xmin": 304996.7322771633,
  "ymin": 4684998.942936342,
  "xmax": 543501.7322771633,
  "ymax": 4838228.942936342,
  "spatialReference": {
   "wkid": 25830,
   "latestWkid": 25830
  }
 },
 "initialExtent": {
  "xmin": 304996.7322771633,
  "ymin": 4684998.942936342,
  "xmax": 543501.7322771633,
  "ymax": 4838228.942936342,
  "spatialReference": {
   "wkid": 25830,
   "latestWkid": 25830
  }
 },
 "fullExtent": {
  "xmin": 304996.7322771633,
  "ymin": 4684998.942936342,
  "xmax": 543501.7322771633,
  "ymax": 4838228.942936342,
  "spatialReference": {
   "wkid": 25830,
   "latestWkid": 25830
  }
 },
 "sortableFields": "",
 "bandCount": 1,
 "pixelType": "F32",
 "minValues": [
  -27.610000610351562
 ],
 "maxValues": [
  2643.99609375
 ],
 "meanValues": [
  637.7794993859292
 ],
 "stdvValues": [
  461.0920763333588
 ],
 "hasMultidimensions": false,
 "pixelSizeX": 5,
 "pixelSizeY": 5,
 "meanPixelSize": 5,
 "datasetFormat": "FGDBR",
 "uncompressedSize": 5847379384,
 "blockWidth": 128,
 "blockHeight": 128,
 "compressionType": "LZ77",
 "bandNames": [
  "Band_1"
 ],
 "allowCopy": true,
 "allowAnalysis": true,
 "itemAccess": false,
 "inspectionCapabilities": "",
 "minPixelSize": 4.233341800016934,
 "maxPixelSize": 541.8677504021675,
 "copyrightText": "Gobierno de Cantabria-IGN, Sistema Cartográfico Nacional",
 "serviceDataType": "esriImageServiceDataTypeGeneric",
 "serviceSourceType": "esriImageServiceSourceTypeDataset",
 "objectIdField": "",
 "fields": [],
 "capabilities": "Image,Mensuration,Metadata",
 "defaultMosaicMethod": "Center",
 "allowedMosaicMethods": "",
 "sortField": "",
 "sortValue": null,
 "sortAscending": true,
 "mosaicOperator": "First",
 "defaultCompressionQuality": 10000,
 "defaultResamplingMethod": "Bilinear",
 "maxImageHeight": 4100,
 "maxImageWidth": 15000,
 "singleFusedMapCache": true,
 "tileInfo": {
  "rows": 256,
  "cols": 256,
  "dpi": 96,
  "format": "MIXED",
  "compressionQuality": 70,
  "origin": {
   "x": -5120900,
   "y": 9998100
  },
  "spatialReference": {
   "wkid": 25830,
   "latestWkid": 25830,
   "vcsWkid": 5782,
   "latestVcsWkid": 5782
  },
  "lods": [
   {
    "level": 0,
    "resolution": 541.8677504021675,
    "scale": 2048000
   },
   {
    "level": 1,
    "resolution": 270.93387520108377,
    "scale": 1024000
   },
   {
    "level": 2,
    "resolution": 203.20040640081282,
    "scale": 768000
   },
   {
    "level": 3,
    "resolution": 135.46693760054188,
    "scale": 512000
   },
   {
    "level": 4,
    "resolution": 101.60020320040641,
    "scale": 384000
   },
   {
    "level": 5,
    "resolution": 67.73346880027094,
    "scale": 256000
   },
   {
    "level": 6,
    "resolution": 33.86673440013547,
    "scale": 128000
   },
   {
    "level": 7,
    "resolution": 16.933367200067735,
    "scale": 64000
   },
   {
    "level": 8,
    "resolution": 8.466683600033868,
    "scale": 32000
   },
   {
    "level": 9,
    "resolution": 4.233341800016934,
    "scale": 16000
   },
   {
    "level": 10,
    "resolution": 2.116670900008467,
    "scale": 8000
   },
   {
    "level": 11,
    "resolution": 1.0583354500042335,
    "scale": 4000
   },
   {
    "level": 12,
    "resolution": 0.5291677250021167,
    "scale": 2000
   },
   {
    "level": 13,
    "resolution": 0.26458386250105836,
    "scale": 1000
   },
   {
    "level": 14,
    "resolution": 0.13229193125052918,
    "scale": 500
   }
  ]
 },
 "storageInfo": {
  "storageFormat": "esriMapCacheStorageModeCompactV2",
  "packetSize": 128
 },
 "cacheType": "Map",
 "allowRasterFunction": true,
 "rasterFunctionInfos": [
  {
   "name": "None",
   "description": "",
   "help": ""
  }
 ],
 "rasterTypeInfos": [
  {
   "name": "Raster Dataset",
   "description": "Supports all ArcGIS Raster Datasets",
   "help": ""
  }
 ],
 "mensurationCapabilities": "Basic",
 "hasHistograms": true,
 "hasColormap": false,
 "hasRasterAttributeTable": false,
 "minScale": 2048000,
 "maxScale": 16000,
 "exportTilesAllowed": true,
 "maxExportTilesCount": 1000000,
 "supportsStatistics": false,
 "supportsAdvancedQueries": false,
 "editFieldsInfo": null,
 "ownershipBasedAccessControlForRasters": null,
 "allowComputeTiePoints": false,
 "useStandardizedQueries": true,
 "advancedQueryCapabilities": {
  "useStandardizedQueries": true,
  "supportsStatistics": false,
  "supportsOrderBy": false,
  "supportsDistinct": false,
  "supportsPagination": false
 },
 "spatialReference": {
  "wkid": 25830,
  "latestWkid": 25830
 }
}
