View In:
ArcGIS JavaScript
ArcGIS Online Map Viewer
ArcGIS Earth
ArcGIS Pro
Service Description: Vuelo del Army Map Service (AMS) de los Estados Unidos, cedido cortesía del Ministerio de Defensa (CEGET). Rectificación de ortofotografía realizada por IGN y Gobierno de Cantabria.
Escala media de fotogramas del vuelo 1:32.000
Map Name: Ortofoto 1956-1957 AMS Serie B (Vuelo Americano)
Legend
All Layers and Tables
Layers:
Description: Ortofoto 1956-1957 AMS Serie B (Vuelo Americano)
Copyright Text: CEGET-IGN-Gobierno de Cantabria, Sistema Cartográfico Nacional
Spatial Reference:
102100
(3857)
Single Fused Map Cache: true
Tile Info:
- Height: 256
- Width: 256
- DPI: 96
-
Levels of Detail: 20
-
Level ID: 0
[ Start Tile, End Tile ]
- Resolution: 156543.03392800014
- Scale: 5.91657527591555E8
-
Level ID: 1
[ Start Tile, End Tile ]
- Resolution: 78271.51696399994
- Scale: 2.95828763795777E8
-
Level ID: 2
[ Start Tile, End Tile ]
- Resolution: 39135.75848200009
- Scale: 1.47914381897889E8
-
Level ID: 3
[ Start Tile, End Tile ]
- Resolution: 19567.87924099992
- Scale: 7.3957190948944E7
-
Level ID: 4
[ Start Tile, End Tile ]
- Resolution: 9783.93962049996
- Scale: 3.6978595474472E7
-
Level ID: 5
[ Start Tile, End Tile ]
- Resolution: 4891.96981024998
- Scale: 1.8489297737236E7
- Format: MIXED
- Compression Quality: 80.0
- Origin: X: -2.0037508342787E7
Y: 2.0037508342787E7
- Spatial Reference: 102100
(3857)
Storage Info:
- Storage Format: esriMapCacheStorageModeCompactV2
- Packet Size: 128
Initial Extent:
XMin: -565809.4801187117
YMin: 5308963.466167668
XMax: -310048.5076515428
YMax: 5427086.837380184
Spatial Reference: 102100
Full Extent:
XMin: -611051.4766169002
YMin: 5225064.885722383
XMax: -264622.60640052083
YMax: 5448944.960794832
Spatial Reference: 102100
Units: esriMeters
Supported Image Format Types: PNG32,PNG24,PNG,JPG,DIB,TIFF,EMF,PS,PDF,GIF,SVG,SVGZ,BMP
Document Info:
Title:
Author:
Comments: Ortofoto PNOA del año 2007
Subject: Ortofoto PNOA del año 2007
Category:
Keywords: ortofoto,ortofotografía,aérea,1956,1957,pnoa,histórico,Cantabria,Santander,Torrelavega
AntialiasingMode: None
TextAntialiasingMode: Force
Supports Dynamic Layers: false
MaxRecordCount: 1000
MaxImageHeight: 4096
MaxImageWidth: 4096
Supported Query Formats: JSON, geoJSON, PBF
Supports Query Data Elements: true
Min Scale: 1.8489297737236E7
Max Scale: 1128.497176
Supports Datum Transformation: true
Child Resources:
Info
Supported Operations:
Export Map
Identify
QueryLegends
QueryDomains
Find
EstimateExportTilesSize
ExportTiles
Return Updates