View In:
ArcGIS JavaScript
ArcGIS Online Map Viewer
ArcGIS Earth
ArcGIS Pro
Service Description: Ortofoto de Cantabria del año 2018, píxel de 0,5 m y color. Procede de un vuelo auxiliar realizado como complemento a una campaña LiDAR. El vuelo no éstá optimizado desde el punto de vista de las sombras, realce radiométrico ni mosaicado.
Map Name: Ortofoto de 2018 (vuelo auxiliar)
Legend
All Layers and Tables
Layers:
Description: Ortofoto PNOA de 2017
Copyright Text: Gobierno de Cantabria-IGN, Sistema Cartográfico Nacional
Spatial Reference:
102100
(3857)
Single Fused Map Cache: true
Tile Info:
- Height: 256
- Width: 256
- DPI: 96
-
Levels of Detail: 20
-
Level ID: 0
[ Start Tile, End Tile ]
- Resolution: 156543.03392800014
- Scale: 5.91657527591555E8
-
Level ID: 1
[ Start Tile, End Tile ]
- Resolution: 78271.51696399994
- Scale: 2.95828763795777E8
-
Level ID: 2
[ Start Tile, End Tile ]
- Resolution: 39135.75848200009
- Scale: 1.47914381897889E8
-
Level ID: 3
[ Start Tile, End Tile ]
- Resolution: 19567.87924099992
- Scale: 7.3957190948944E7
-
Level ID: 4
[ Start Tile, End Tile ]
- Resolution: 9783.93962049996
- Scale: 3.6978595474472E7
-
Level ID: 5
[ Start Tile, End Tile ]
- Resolution: 4891.96981024998
- Scale: 1.8489297737236E7
- Format: MIXED
- Compression Quality: 70.0
- Origin: X: -2.0037508342787E7
Y: 2.0037508342787E7
- Spatial Reference: 102100
(3857)
Storage Info:
- Storage Format: esriMapCacheStorageModeCompactV2
- Packet Size: 128
Initial Extent:
XMin: -617387.700203889
YMin: 5274480.56048796
XMax: -243530.7024898936
YMax: 5458829.366685572
Spatial Reference: 102100
Full Extent:
XMin: -611027.4926251376
YMin: 5225087.569670357
XMax: -264658.7903636853
YMax: 5448916.316273767
Spatial Reference: 102100
Units: esriMeters
Supported Image Format Types: PNG32,PNG24,PNG,JPG,DIB,TIFF,EMF,PS,PDF,GIF,SVG,SVGZ,BMP
Document Info:
Title:
Author:
Comments: Ortofoto PNOA del año 2007
Subject: Ortofoto PNOA del año 2007
Category:
Keywords: ortofoto,ortofotografía,fotografía,aérea,Cantabria,territorio,territorial,ordenacion,suelo,WMS,WMTS,OGC,INSPIRE,servicio
AntialiasingMode: None
TextAntialiasingMode: Force
Supports Dynamic Layers: false
MaxRecordCount: 1000
MaxImageHeight: 4096
MaxImageWidth: 4096
Supported Query Formats: JSON, geoJSON, PBF
Supports Query Data Elements: true
Min Scale: 5.91657527591555E8
Max Scale: 1128.497176
Supports Datum Transformation: true
Child Resources:
Info
Supported Operations:
Export Map
Identify
QueryLegends
QueryDomains
Find
EstimateExportTilesSize
ExportTiles
Return Updates