View In:
ArcGIS JavaScript
ArcGIS Online Map Viewer
ArcGIS Earth
Service Description: Modelo Digital de Elevaciones de 2012. Aunque el tamaño de tesela es de 5 m en toda la extensión del servicio, la calidad del muestreo del dato altimétrico para el exterior de Cantabria baja a 25 m de resolución (es decir, en el exterior de cantabria la fuente altimétrica ha sido un MDT de 25 m de resolución). El mar está interpretado en toda su extensión como cota 0 (sin batimetría).
Name: MDT_Elevaciones_2012_WebMercator
Description: Modelo Digital de Elevaciones de 2012. Aunque el tamaño de tesela es de 5 m en toda la extensión del servicio, la calidad del muestreo del dato altimétrico para el exterior de Cantabria baja a 25 m de resolución (es decir, en el exterior de cantabria la fuente altimétrica ha sido un MDT de 25 m de resolución). El mar está interpretado en toda su extensión como cota 0 (sin batimetría).
Single Fused Map Cache: true
Tile Info:
- Height: 256
- Width: 256
- DPI: 96
-
Levels of Detail: 20
-
Level ID: 0
[ Start Tile, End Tile ]
- Resolution: 156543.03392800014
- Scale: 5.91657527591555E8
-
Level ID: 1
[ Start Tile, End Tile ]
- Resolution: 78271.51696399994
- Scale: 2.95828763795777E8
-
Level ID: 2
[ Start Tile, End Tile ]
- Resolution: 39135.75848200009
- Scale: 1.47914381897889E8
-
Level ID: 3
[ Start Tile, End Tile ]
- Resolution: 19567.87924099992
- Scale: 7.3957190948944E7
-
Level ID: 4
[ Start Tile, End Tile ]
- Resolution: 9783.93962049996
- Scale: 3.6978595474472E7
-
Level ID: 5
[ Start Tile, End Tile ]
- Resolution: 4891.96981024998
- Scale: 1.8489297737236E7
- Format: LERC
- Compression Quality: 0.0
- LERC Error: 0.0
- Origin: X: -2.0037508342787E7
Y: 2.0037508342787E7
- Spatial Reference: 102100
(3857)
Storage Info:
- Storage Format: esriMapCacheStorageModeCompactV2
- Packet Size: 128
Extent:
XMin: -603229.8244259929
YMin: 5204943.472254766
XMax: -273859.8244259929
YMax: 5418683.472254766
Spatial Reference: 102100
(3857)
Initial Extent:
XMin: -603229.8244259929
YMin: 5204943.472254766
XMax: -273859.8244259929
YMax: 5418683.472254766
Spatial Reference: 102100
(3857)
Full Extent:
XMin: -603229.8244259929
YMin: 5204943.472254766
XMax: -273859.8244259929
YMax: 5418683.472254766
Spatial Reference: 102100
(3857)
Pixel Size X: 5.0
Pixel Size Y: 5.0
Band Count: 1
Pixel Type: F32
RasterFunction Infos: {"rasterFunctionInfos": [{
"name": "None",
"description": "",
"help": ""
}]}
Mensuration Capabilities: Basic
Inspection Capabilities:
Has Histograms: true
Has Colormap: false
Has Multi Dimensions : false
Rendering Rule:
Min Scale: 5.91657527591555E8
Max Scale: 1128.497176
Copyright Text: Gobierno de Cantabria-IGN, Sistema Cartográfico Nacional
Service Data Type: esriImageServiceDataTypeGeneric
Min Values: -27.600494384765625
Max Values: 2643.29052734375
Mean Values: 633.8189358450912
Standard Deviation Values: 462.56296232040404
Object ID Field:
Fields:
None
Default Mosaic Method: Center
Allowed Mosaic Methods:
SortField:
SortValue: null
Mosaic Operator: First
Default Compression Quality: 75
Default Resampling Method: Bilinear
Max Record Count: null
Max Image Height: 4100
Max Image Width: 15000
Max Download Image Count: null
Max Mosaic Image Count: null
Allow Raster Function: true
Allow Copy: true
Allow Analysis: true
Allow Compute TiePoints: false
Supports Statistics: false
Supports Advanced Queries: false
Use StandardizedQueries: true
Raster Type Infos:
Name: Raster Dataset
Description: Supports all ArcGIS Raster Datasets
Help:
Has Raster Attribute Table: false
Edit Fields Info: null
Ownership Based AccessControl For Rasters: null
Child Resources:
Info
Histograms
Statistics
Key Properties
Legend
Raster Function Infos
Supported Operations:
Export Image
Identify
Measure
Compute Histograms
Compute Statistics Histograms
Get Samples
Compute Class Statistics
Query Boundary
Compute Pixel Location
Compute Angles
Validate
Project
EstimateExportTilesSize
ExportTiles