{
 "currentVersion": 11.3,
 "cimVersion": "3.3.0",
 "serviceDescription": "Vuelo del Army Map Service (AMS) de los Estados Unidos, cedido cortesía del Ministerio de Defensa (CEGET). Rectificación de ortofotografía realizada por IGN y Gobierno de Cantabria.\nEscala media de fotogramas del vuelo 1:32.000. La ortofoto, originalmente en blanco y negro, ha sido coloreada por el Gobierno de Cantabria mediante técnicas de Inteligencia Artificial (Machine Learning y concretamente Deep Learning). Tenga en cuenta por tanto que los colores han sido atribuidos por un sistema de IA y que por lo tanto pueden diferir de la realidad.",
 "mapName": "Ortofoto 1956-1957 AMS Serie B (Vuelo Americano)",
 "description": "Ortofoto 1956-1957 AMS Serie B (Vuelo Americano)",
 "copyrightText": "CEGET-IGN-Gobierno de Cantabria, Sistema Cartográfico Nacional",
 "supportsDynamicLayers": false,
 "layers": [
  {
   "id": 0,
   "name": "Ortofoto 1956-1957 AMS Serie B (Vuelo Americano)",
   "parentLayerId": -1,
   "defaultVisibility": true,
   "subLayerIds": null,
   "minScale": 100000,
   "maxScale": 0,
   "type": "Raster Layer",
   "supportsDynamicLegends": true
  },
  {
   "id": 1,
   "name": "Ortofoto 1956-1957 AMS Serie B (Vuelo Americano, hasta 1:100.000)",
   "parentLayerId": -1,
   "defaultVisibility": true,
   "subLayerIds": null,
   "minScale": 0,
   "maxScale": 100000,
   "type": "Raster Layer",
   "supportsDynamicLegends": true
  },
  {
   "id": 2,
   "name": "Fondo LANDSAT (hasta 1:100.000)",
   "parentLayerId": -1,
   "defaultVisibility": true,
   "subLayerIds": null,
   "minScale": 0,
   "maxScale": 100000,
   "type": "Raster Layer",
   "supportsDynamicLegends": true
  }
 ],
 "tables": [],
 "spatialReference": {
  "wkid": 25830,
  "latestWkid": 25830,
  "xyTolerance": 0.001,
  "zTolerance": 2.0E-4,
  "mTolerance": 2.0E-4,
  "falseX": -5120900,
  "falseY": -9998100,
  "xyUnits": 4.504455473910538E8,
  "falseZ": -100000,
  "zUnits": 10000,
  "falseM": -100000,
  "mUnits": 10000
 },
 "singleFusedMapCache": true,
 "tileInfo": {
  "rows": 256,
  "cols": 256,
  "dpi": 96,
  "format": "MIXED",
  "compressionQuality": 80,
  "origin": {
   "x": -5120900,
   "y": 9998100
  },
  "spatialReference": {
   "wkid": 25830,
   "latestWkid": 25830,
   "xyTolerance": 0.001,
   "zTolerance": 2.0E-4,
   "mTolerance": 2.0E-4,
   "falseX": -5120900,
   "falseY": -9998100,
   "xyUnits": 4.504455473910538E8,
   "falseZ": -100000,
   "zUnits": 10000,
   "falseM": -100000,
   "mUnits": 10000
  },
  "lods": [
   {
    "level": 0,
    "resolution": 2167.47100160867,
    "scale": 8192000
   },
   {
    "level": 1,
    "resolution": 1083.735500804335,
    "scale": 4096000
   },
   {
    "level": 2,
    "resolution": 541.8677504021675,
    "scale": 2048000
   },
   {
    "level": 3,
    "resolution": 270.93387520108377,
    "scale": 1024000
   },
   {
    "level": 4,
    "resolution": 203.20040640081282,
    "scale": 768000
   },
   {
    "level": 5,
    "resolution": 135.46693760054188,
    "scale": 512000
   },
   {
    "level": 6,
    "resolution": 101.60020320040641,
    "scale": 384000
   },
   {
    "level": 7,
    "resolution": 67.73346880027094,
    "scale": 256000
   },
   {
    "level": 8,
    "resolution": 33.86673440013547,
    "scale": 128000
   },
   {
    "level": 9,
    "resolution": 16.933367200067735,
    "scale": 64000
   },
   {
    "level": 10,
    "resolution": 8.466683600033868,
    "scale": 32000
   },
   {
    "level": 11,
    "resolution": 4.233341800016934,
    "scale": 16000
   },
   {
    "level": 12,
    "resolution": 2.116670900008467,
    "scale": 8000
   },
   {
    "level": 13,
    "resolution": 1.0583354500042335,
    "scale": 4000
   },
   {
    "level": 14,
    "resolution": 0.5291677250021167,
    "scale": 2000
   },
   {
    "level": 15,
    "resolution": 0.26458386250105836,
    "scale": 1000
   },
   {
    "level": 16,
    "resolution": 0.13229193125052918,
    "scale": 500
   }
  ]
 },
 "storageInfo": {
  "storageFormat": "esriMapCacheStorageModeCompactV2",
  "packetSize": 128
 },
 "initialExtent": {
  "xmin": 287480.26571424445,
  "ymin": 4727463.848033191,
  "xmax": 562529.9444790358,
  "ymax": 4883650.370999261,
  "spatialReference": {
   "wkid": 25830,
   "latestWkid": 25830,
   "xyTolerance": 0.001,
   "zTolerance": 2.0E-4,
   "mTolerance": 2.0E-4,
   "falseX": -5120900,
   "falseY": -9998100,
   "xyUnits": 4.504455473910538E8,
   "falseZ": -100000,
   "zUnits": 10000,
   "falseM": -100000,
   "mUnits": 10000
  }
 },
 "fullExtent": {
  "xmin": 299982.52383991674,
  "ymin": 4699982.70492537,
  "xmax": 550027.6863533638,
  "ymax": 4860022.038346386,
  "spatialReference": {
   "wkid": 25830,
   "latestWkid": 25830,
   "xyTolerance": 0.001,
   "zTolerance": 2.0E-4,
   "mTolerance": 2.0E-4,
   "falseX": -5120900,
   "falseY": -9998100,
   "xyUnits": 4.504455473910538E8,
   "falseZ": -100000,
   "zUnits": 10000,
   "falseM": -100000,
   "mUnits": 10000
  }
 },
 "datesInUnknownTimezone": false,
 "minScale": 2048000,
 "maxScale": 500,
 "minLOD": 0,
 "maxLOD": 16,
 "units": "esriMeters",
 "supportedImageFormatTypes": "PNG32,PNG24,PNG,JPG,DIB,TIFF,EMF,PS,PDF,GIF,SVG,SVGZ,BMP",
 "documentInfo": {
  "Title": "",
  "Author": "",
  "Comments": "Ortofoto PNOA del año 2007",
  "Subject": "Ortofoto PNOA del año 2007",
  "Category": "",
  "Version": "10.1",
  "AntialiasingMode": "None",
  "TextAntialiasingMode": "Force",
  "Keywords": "ortofoto,ortofotografía,aérea,1956,1957,pnoa,histórico,Cantabria,Santander,Torrelavega"
 },
 "supportsQueryDomains": true,
 "capabilities": "Map,Query,Data",
 "supportedQueryFormats": "JSON, geoJSON, PBF",
 "exportTilesAllowed": true,
 "maxExportTilesCount": 1000000,
 "referenceScale": 0.0,
 "datumTransformations": [
  {
   "geoTransforms": [
    {
     "wkid": 108001,
     "latestWkid": 1241,
     "transformForward": true,
     "name": "NAD_1927_To_NAD_1983_NADCON"
    }
   ]
  },
  {
   "geoTransforms": [
    {
     "wkid": 108001,
     "latestWkid": 1241,
     "transformForward": false,
     "name": "NAD_1927_To_NAD_1983_NADCON"
    }
   ]
  }
 ],
 "supportsDatumTransformation": true,
 "archivingInfo": {
  "supportsHistoricMoment": false
 },
 "supportsClipping": true,
 "supportsSpatialFilter": true,
 "supportsTimeRelation": true,
 "supportsQueryDataElements": true,
 "mapUnits": {
  "uwkid": 9001
 },
 "maxRecordCount": 1000,
 "maxImageHeight": 4096,
 "maxImageWidth": 4096,
 "supportedExtensions": "WMSServer"
}
